BEGIN:VCALENDAR
VERSION:2.0
PRODID:https://www.acma.it
X-PUBLISHED-TTL:P1W
BEGIN:VEVENT
UID:69ed3b075d554
DTSTART;VALUE=DATE:20230613
SEQUENCE:0
TRANSP:OPAQUE
DTEND;VALUE=DATE:20230616
URL:https://www.acma.it/en/exhibitions/expo-pack-guadalajara-mexico
LOCATION:Guadalajara\, Mexico
SUMMARY:Expo Pack - Guadalajara\, Mexico
CLASS:PUBLIC
X-ALT-DESC;FMTTYPE=text/html:<p>ACMA will be present at Expo Pack Guadalaja
 ra\, Mexico\, the fundamental event in Latin America for packaging and pro
 cessing technologies for a wide range of industries such as food\, beverag
 es\, personal care\, chemical\, automotive\, manufacture of packaging/caps
 \, electronics\, pharmaceutical\, confectionery\, bakery\, graphic arts an
 d textiles.</p>\n\n<p>Jalisco Hall\, Coesia booth&nbsp\;<a href=\"https://
 epg2023.mapyourshow.com/8_0/floorplan_link.cfm?show_id=EPG2023&amp\;alt_en
 try=true&amp\;curr_pri=facility&amp\;booth=2316&amp\;exhid=5634\" id=\"new
 floorplanlink\"><strong>2316 — PMMI Pavilion</strong></a></p>\n\n<p>For 
 more info\, click <a href=\"https://epg2023.mapyourshow.com/8_0/exhibitor/
 exhibitor-details.cfm?exhid=5634\">here</a>.</p>\n\n<p>&nbsp\;</p>\n\n<p>&
 nbsp\;</p>\n\, coesia_editor_manager
X-MICROSOFT-CDO-ALLDAYEVENT:TRUE
DTSTAMP:20260426T000703Z
END:VEVENT
END:VCALENDAR