BEGIN:VCALENDAR
VERSION:2.0
PRODID:https://www.acma.it
X-PUBLISHED-TTL:P1W
BEGIN:VEVENT
UID:69ed58b0e39d6
DTSTART;VALUE=DATE:20221108
SEQUENCE:0
TRANSP:OPAQUE
DTEND;VALUE=DATE:20221111
URL:https://www.acma.it/en/exhibitions/gulfood-manufacturing-2022
LOCATION:Dubai\, United Arab Emirates
SUMMARY:Gulfood Manufacturing
CLASS:PUBLIC
X-ALT-DESC;FMTTYPE=text/html:<p class=\"MsoNormal\" style=\"text-align:just
 ify\"><i><span style=\"mso-ansi-language:\nEN-US\">ACMA and Volpak\, compa
 nies of the Coesia Group specialized in the design and sales of automatic 
 packaging machines for the consumer goods market\, will be present at Gulf
 ood Manufacturing (Shk Saeed – Hall 2\, stand S2-C4). </span></i></p>\n\
 n<p class=\"MsoNormal\" style=\"text-align:justify\"><i><span style=\"mso-
 ansi-language:\nEN-US\">The participation in the exhibition – Dubai\, 8-
 10 November- is part of a strategy of expansion towards the Middle East ma
 rket by the two companies\, thanks to a technological proposal in line wit
 h the needs of the sector and the geographical area.<o:p></o:p></span></i>
 </p>\n\, coesia_editor_manager
X-MICROSOFT-CDO-ALLDAYEVENT:TRUE
DTSTAMP:20260426T021336Z
END:VEVENT
END:VCALENDAR