BEGIN:VCALENDAR
VERSION:2.0
PRODID:https://www.acma.it
X-PUBLISHED-TTL:P1W
BEGIN:VEVENT
UID:69e58bb2b8661
DTSTART;VALUE=DATE:20250527
SEQUENCE:0
TRANSP:OPAQUE
DTEND;VALUE=DATE:20250531
URL:https://www.acma.it/en/exhibitions/acma-showcases-fp-edge-with-paper-ki
 t-at-ipack-ima-when-performance-meets-sustainability
LOCATION:Fiera Milano\, Milan\, Italy
SUMMARY:ACMA Showcases FP EDGE with PAPER KIT at IPACK IMA: when performanc
 e meets sustainability
CLASS:PUBLIC
X-ALT-DESC;FMTTYPE=text/html:<ul>\n<li>\n<p>IPACK IMA\, Fiera Milano\, Mila
 n\, Italy&nbsp\;</p>\n</li>\n<li>\n<p>Coesia Booth | Hall 7\, Booth A46-B4
 5&nbsp\;</p>\n</li>\n<li>\n<p>Learn more about packaging automation for Fo
 od and Home and Personal Care&nbsp\;</p>\n</li>\n</ul>\n\n<p>ACMA\, a Coes
 ia company leading in advanced packaging solutions\, will be present at <s
 trong>IPACK IMA 2025</strong>\, the international trade fair dedicated to 
 processing and packaging\, materials and technologies for the food and non
 -food world. With its sister companies Atlantic Zeiser\, Citux Kalix\, Fle
 xLink\, Norden\, Volpak\, and Coesia partner PWR\, ACMA will present a por
 tfolio of solutions designed to minimize human intervention\, enhance effi
 ciency\, boost productivity\, and support the evolution of automated manuf
 acturing.&nbsp\;</p>\n\n<p>At the heart of ACMA’s showcase is the <stron
 g>FP EDGE</strong>\, an innovative flow pack solution that sets new standa
 rds for sustainable packaging excellence. This high-speed horizontal form-
 fill-seal machine\, <strong>optimized for sustainable materials through th
 e PAPER KIT</strong>\, efficiently processes <strong>paper-based materials
  composed of up to 95% paper</strong>\, revolutionizing an industry tradit
 ionally dominated by plastic.&nbsp\;</p>\n\n<p>Capable of reaching speeds 
 up to 150 m/min\, the FP EDGE with PAPER KIT <strong>combines exceptional 
 efficiency with the quality and protection typical of traditional packagin
 g</strong>. Features such as ergonomic reel support\, pneumatic material c
 ontrol\, and a laser coder option ensure seamless\, <strong>sustainable pa
 ckaging without compromising performance or product integrity</strong>. It
 s design facilitates continuous production and effortless format changeove
 rs\, making it an ideal choice for companies transitioning to green packag
 ing solutions.&nbsp\;</p>\n\n<p>Visitors to IPACK IMA 2025 will have the <
 strong>opportunity to see the FP EDGE with PAPER KIT in action</strong> an
 d learn more about its capabilities. ACMA’s experts will be on hand to d
 emonstrate how this machine can transform your packaging operations\, prov
 iding insights into its technical specifications\, operational benefits\, 
 and the tangible impact it can have on your sustainability goals.&nbsp\;</
 p>\n\, coesia_editor_manager
X-MICROSOFT-CDO-ALLDAYEVENT:TRUE
DTSTAMP:20260420T041306Z
END:VEVENT
END:VCALENDAR